BEGIN:VCALENDAR
VERSION:2.0
PRODID:-//UNCG Staff Senate - ECPv6.15.20//NONSGML v1.0//EN
CALSCALE:GREGORIAN
METHOD:PUBLISH
X-WR-CALNAME:UNCG Staff Senate
X-ORIGINAL-URL:https://staffsenate.uncg.edu
X-WR-CALDESC:Events for UNCG Staff Senate
REFRESH-INTERVAL;VALUE=DURATION:PT1H
X-Robots-Tag:noindex
X-PUBLISHED-TTL:PT1H
BEGIN:VTIMEZONE
TZID:America/New_York
BEGIN:DAYLIGHT
TZOFFSETFROM:-0500
TZOFFSETTO:-0400
TZNAME:EDT
DTSTART:20250309T070000
END:DAYLIGHT
BEGIN:STANDARD
TZOFFSETFROM:-0400
TZOFFSETTO:-0500
TZNAME:EST
DTSTART:20251102T060000
END:STANDARD
BEGIN:DAYLIGHT
TZOFFSETFROM:-0500
TZOFFSETTO:-0400
TZNAME:EDT
DTSTART:20260308T070000
END:DAYLIGHT
BEGIN:STANDARD
TZOFFSETFROM:-0400
TZOFFSETTO:-0500
TZNAME:EST
DTSTART:20261101T060000
END:STANDARD
BEGIN:DAYLIGHT
TZOFFSETFROM:-0500
TZOFFSETTO:-0400
TZNAME:EDT
DTSTART:20270314T070000
END:DAYLIGHT
BEGIN:STANDARD
TZOFFSETFROM:-0400
TZOFFSETTO:-0500
TZNAME:EST
DTSTART:20271107T060000
END:STANDARD
END:VTIMEZONE
BEGIN:VEVENT
DTSTART;TZID=America/New_York:20260401T080000
DTEND;TZID=America/New_York:20260428T170000
DTSTAMP:20260420T164156
CREATED:20260417T181302Z
LAST-MODIFIED:20260417T181403Z
UID:10000201-1775030400-1777395600@staffsenate.uncg.edu
SUMMARY:Spartan Teacher Supply Drive
DESCRIPTION:Find out how you can donate school supply items that will be used by graduating educators at UNCG. \n\n\n\nSupplies gathered will be organize and distributed via a storefront setup. Graduating teachers will be invited to “shop” at the teaching supply store. Armed with free classroom supplies\, the new teachers will enter the new school systems with an extra boost of practical support from UNCG.
URL:https://staffsenate.uncg.edu/service/spartan-teacher-supply-drive/#new_tab
CATEGORIES:UNCG
END:VEVENT
BEGIN:VEVENT
DTSTART;TZID=America/New_York:20260409T000000
DTEND;TZID=America/New_York:20260424T235959
DTSTAMP:20260420T164156
CREATED:20260416T145404Z
LAST-MODIFIED:20260416T152343Z
UID:10000181-1775692800-1777075199@staffsenate.uncg.edu
SUMMARY:Spartan Open Pantry Spring 2026 Food Drive
DESCRIPTION:Find out how you can help donate to the Spartan Open Pantry Spring 2026 Food Drive.
URL:https://staffsenate.uncg.edu/service/spartan-open-pantry/
CATEGORIES:UNCG
END:VEVENT
BEGIN:VEVENT
DTSTART;TZID=America/New_York:20260422T150000
DTEND;TZID=America/New_York:20260422T170000
DTSTAMP:20260420T164156
CREATED:20250425T131507Z
LAST-MODIFIED:20250425T131510Z
UID:10000129-1776870000-1776877200@staffsenate.uncg.edu
SUMMARY:General Faculty Meeting
DESCRIPTION:
URL:https://staffsenate.uncg.edu/event/general-faculty-meeting-2/
END:VEVENT
BEGIN:VEVENT
DTSTART;TZID=America/New_York:20260424T110000
DTEND;TZID=America/New_York:20260424T130000
DTSTAMP:20260420T164156
CREATED:20260416T153158Z
LAST-MODIFIED:20260416T153742Z
UID:10000198-1777028400-1777035600@staffsenate.uncg.edu
SUMMARY:Employee Field Day
DESCRIPTION:Employee Field Day is an event specially designed for UNCG Employees! Come join us for this day of play designed to relieve stress\, build morale\, encourage camaraderie and promote FUN! \n\n\n\nCome as an individual player\, as part of a team\, or just as a cheerleader! Food\, prizes\, and fun for everyone. Wear your blue and gold! You will even have the opportunity to snag a picture with our beloved\, Spiro!
URL:https://staffsenate.uncg.edu/event/employee-field-day-2026/
CATEGORIES:UNCG
END:VEVENT
BEGIN:VEVENT
DTSTART;TZID=America/New_York:20260501T100000
DTEND;TZID=America/New_York:20260501T120000
DTSTAMP:20260420T164156
CREATED:20250625T132502Z
LAST-MODIFIED:20250625T132505Z
UID:10000133-1777629600-1777636800@staffsenate.uncg.edu
SUMMARY:Executive Committee Meeting
DESCRIPTION:Staff Senate Executive Team (SSET) members meet monthly to discuss ongoing activities and developments within committee and project group. \nThese meetings are open to the University\, with gallery speaking privileges granted by a majority of the Executive Committee on a speaker-by-speaker basis.
URL:https://staffsenate.uncg.edu/event/executive-committee-meeting/
LOCATION:Alumni House\, 404 College Avenue\, Greensboro\, NC\, 27402\, United States
CATEGORIES:Executive Committee Meeting
ATTACH;FMTTYPE=image/png:https://staffsenate.uncg.edu/wp-content/uploads/2023/10/Staff-Senate-Executive-Team1-e1717008636912.png
END:VEVENT
BEGIN:VEVENT
DTSTART;TZID=America/New_York:20260511T113000
DTEND;TZID=America/New_York:20260511T133000
DTSTAMP:20260420T164156
CREATED:20260416T154216Z
LAST-MODIFIED:20260416T154219Z
UID:10000200-1778499000-1778506200@staffsenate.uncg.edu
SUMMARY:Staff Appreciation Luncheon
DESCRIPTION:Join us at Fountain View Dining Hall for the annual Staff Appreciation Luncheon. RSVP to receive SWAG!
URL:https://staffsenate.uncg.edu/service/staff-appreciation/
ATTACH;FMTTYPE=image/png:https://staffsenate.uncg.edu/wp-content/uploads/2026/04/image-1.png
END:VEVENT
BEGIN:VEVENT
DTSTART;TZID=America/New_York:20260519T083000
DTEND;TZID=America/New_York:20260519T113000
DTSTAMP:20260420T164156
CREATED:20260220T165508Z
LAST-MODIFIED:20260220T165512Z
UID:10000152-1779179400-1779190200@staffsenate.uncg.edu
SUMMARY:UNCG Board of Trustees Meeting
DESCRIPTION:UNCG welcomes the lawful attendance of its public meetings. To help protect access and promote the transaction of public business in an efficient\, safe environment\, the following rules will apply to all events held by UNCG and its Board of Trustees. We ask that attendees conduct themselves in a manner respectful of fellow observers\, the Board\, and members of the University community including faculty\, staff\, students\, and presenters. \nMeetings of the Board of Trustees and its committees are public meetings\, rather than public hearings. Participation is limited to members of the board and designated speakers. Attendees at official meetings and committee meetings of the Board of Trustees cannot lawfully engage in conduct that distracts\, disrupts\, or impedes the transaction of Board business\, or interferes with the rights of others to observe and listen to the proceedings. \nRead more about these meetings
URL:https://staffsenate.uncg.edu/event/uncg-board-of-trustees-meeting-4/
LOCATION:Betsy Oakley Family Reception Room\, Alumni House
CATEGORIES:UNCG Board of Trustees
ATTACH;FMTTYPE=image/png:https://staffsenate.uncg.edu/wp-content/uploads/2024/05/Board-of-Trustees.png
END:VEVENT
BEGIN:VEVENT
DTSTART;TZID=America/New_York:20260520T090000
DTEND;TZID=America/New_York:20260520T120000
DTSTAMP:20260420T164156
CREATED:20240529T183506Z
LAST-MODIFIED:20250828T201747Z
UID:10000170-1779267600-1779278400@staffsenate.uncg.edu
SUMMARY:UNC Board of Governors Meeting | UNC System Office
DESCRIPTION:Watch the PBS NC Livestream | \nThe UNC Board of Governors is the policy-making body charged with “the general determination\, control\, supervision\, management\, and governance” of the University of North Carolina. Its 24 voting members are elected by the NC General Assembly for four-year terms. Former board chairs may continue to serve for limited periods as non-voting members emeriti. The president of the UNC Association of Student Governments or that student’s designee is also a non-voting member. \nUNC Board of Governors’ Website \nBoard Meetings and Materials
URL:https://staffsenate.uncg.edu/event/unc-board-of-governors-meeting-pbs-nc-livestream-2/2026-05-20/
CATEGORIES:Board of Governors
ATTACH;FMTTYPE=image/jpeg:https://staffsenate.uncg.edu/wp-content/uploads/2024/05/UNC-BOG.jpg
END:VEVENT
BEGIN:VEVENT
DTSTART;TZID=America/New_York:20260605T100000
DTEND;TZID=America/New_York:20260605T120000
DTSTAMP:20260420T164156
CREATED:20250625T132231Z
LAST-MODIFIED:20250625T132411Z
UID:10000132-1780653600-1780660800@staffsenate.uncg.edu
SUMMARY:Executive Committee Meeting
DESCRIPTION:Staff Senate Executive Team (SSET) members meet monthly to discuss ongoing activities and developments within committee and project group. \nThese meetings are open to the University\, with gallery speaking privileges granted by a majority of the Executive Committee on a speaker-by-speaker basis.
URL:https://staffsenate.uncg.edu/event/executive-committee-meeting-june-2024/
LOCATION:Alumni House\, 404 College Avenue\, Greensboro\, NC\, 27402\, United States
CATEGORIES:Executive Committee Meeting
ATTACH;FMTTYPE=image/png:https://staffsenate.uncg.edu/wp-content/uploads/2023/10/Staff-Senate-Executive-Team1-e1717008636912.png
END:VEVENT
BEGIN:VEVENT
DTSTART;TZID=America/New_York:20260611T100000
DTEND;TZID=America/New_York:20260611T120000
DTSTAMP:20260420T164156
CREATED:20250324T175041Z
LAST-MODIFIED:20250814T192527Z
UID:10000112-1781172000-1781179200@staffsenate.uncg.edu
SUMMARY:Staff Senate Full Body Meeting - June 2026
DESCRIPTION:This meeting will be an opportunity for ALL STAFF to hear updates from across campus and from Staff Senate committees. Attendance can be in-person or virtually. \n\n\n\n\nJoin Virtually\n\n\n\n\nLocation:
URL:https://staffsenate.uncg.edu/event/staff-senate-full-body-meeting-june-2026/
LOCATION:Betsy Oakley Family Reception Room\, Alumni House
CATEGORIES:Staff Senate Full Body Meeting
ATTACH;FMTTYPE=image/png:https://staffsenate.uncg.edu/wp-content/uploads/2024/05/Full-Body-Meeting.png
END:VEVENT
END:VCALENDAR