BEGIN:VCALENDAR
VERSION:2.0
PRODID:-//UNCG Staff Senate - ECPv6.15.20//NONSGML v1.0//EN
CALSCALE:GREGORIAN
METHOD:PUBLISH
X-ORIGINAL-URL:https://staffsenate.uncg.edu
X-WR-CALDESC:Events for UNCG Staff Senate
REFRESH-INTERVAL;VALUE=DURATION:PT1H
X-Robots-Tag:noindex
X-PUBLISHED-TTL:PT1H
BEGIN:VTIMEZONE
TZID:America/New_York
BEGIN:DAYLIGHT
TZOFFSETFROM:-0500
TZOFFSETTO:-0400
TZNAME:EDT
DTSTART:20240310T070000
END:DAYLIGHT
BEGIN:STANDARD
TZOFFSETFROM:-0400
TZOFFSETTO:-0500
TZNAME:EST
DTSTART:20241103T060000
END:STANDARD
BEGIN:DAYLIGHT
TZOFFSETFROM:-0500
TZOFFSETTO:-0400
TZNAME:EDT
DTSTART:20250309T070000
END:DAYLIGHT
BEGIN:STANDARD
TZOFFSETFROM:-0400
TZOFFSETTO:-0500
TZNAME:EST
DTSTART:20251102T060000
END:STANDARD
BEGIN:DAYLIGHT
TZOFFSETFROM:-0500
TZOFFSETTO:-0400
TZNAME:EDT
DTSTART:20260308T070000
END:DAYLIGHT
BEGIN:STANDARD
TZOFFSETFROM:-0400
TZOFFSETTO:-0500
TZNAME:EST
DTSTART:20261101T060000
END:STANDARD
END:VTIMEZONE
BEGIN:VEVENT
DTSTART;TZID=America/New_York:20250903T150000
DTEND;TZID=America/New_York:20250903T170000
DTSTAMP:20260420T084654
CREATED:20250425T124708Z
LAST-MODIFIED:20250425T124711Z
UID:10000118-1756911600-1756918800@staffsenate.uncg.edu
SUMMARY:Faculty Senate Meeting
DESCRIPTION:As the Senate carries out its scheduled business\, guests — other faculty\, students\, staff\, governing board members\, administrators\, and the general public — are welcome to speak and contribute to the conversation.
URL:https://staffsenate.uncg.edu/event/faculty-senate-meeting-6/
LOCATION:Alumni House\, 404 College Avenue\, Greensboro\, NC\, 27402\, United States
CATEGORIES:Faculty Senate Meetings
ATTACH;FMTTYPE=image/png:https://staffsenate.uncg.edu/wp-content/uploads/2024/10/Faculty-Senate.png
END:VEVENT
BEGIN:VEVENT
DTSTART;TZID=America/New_York:20250905T100000
DTEND;TZID=America/New_York:20250905T120000
DTSTAMP:20260420T084654
CREATED:20250625T132904Z
LAST-MODIFIED:20250625T132906Z
UID:10000141-1757066400-1757073600@staffsenate.uncg.edu
SUMMARY:Executive Committee Meeting
DESCRIPTION:Staff Senate Executive Team (SSET) members meet monthly to discuss ongoing activities and developments within committee and project group. \nThese meetings are open to the University\, with gallery speaking privileges granted by a majority of the Executive Committee on a speaker-by-speaker basis.
URL:https://staffsenate.uncg.edu/event/executive-committee-meeting-9/
LOCATION:Alumni House\, 404 College Avenue\, Greensboro\, NC\, 27402\, United States
CATEGORIES:Executive Committee Meeting
ATTACH;FMTTYPE=image/png:https://staffsenate.uncg.edu/wp-content/uploads/2023/10/Staff-Senate-Executive-Team1-e1717008636912.png
END:VEVENT
BEGIN:VEVENT
DTSTART;TZID=America/New_York:20250911T083000
DTEND;TZID=America/New_York:20250911T113000
DTSTAMP:20260420T084654
CREATED:20260211T143120Z
LAST-MODIFIED:20260211T144738Z
UID:10000171-1757579400-1757590200@staffsenate.uncg.edu
SUMMARY:UNCG Board of Trustees Meeting
DESCRIPTION:UNCG welcomes the lawful attendance of its public meetings. To help protect access and promote the transaction of public business in an efficient\, safe environment\, the following rules will apply to all events held by UNCG and its Board of Trustees. We ask that attendees conduct themselves in a manner respectful of fellow observers\, the Board\, and members of the University community including faculty\, staff\, students\, and presenters. \nMeetings of the Board of Trustees and its committees are public meetings\, rather than public hearings. Participation is limited to members of the board and designated speakers. Attendees at official meetings and committee meetings of the Board of Trustees cannot lawfully engage in conduct that distracts\, disrupts\, or impedes the transaction of Board business\, or interferes with the rights of others to observe and listen to the proceedings. \nRead more about these meetings
URL:https://staffsenate.uncg.edu/event/uncg-board-of-trustees-meeting-3/
LOCATION:Betsy Oakley Family Reception Room\, Alumni House
CATEGORIES:UNCG Board of Trustees
ATTACH;FMTTYPE=image/png:https://staffsenate.uncg.edu/wp-content/uploads/2024/05/Board-of-Trustees.png
END:VEVENT
BEGIN:VEVENT
DTSTART;TZID=America/New_York:20250911T083000
DTEND;TZID=America/New_York:20250911T113000
DTSTAMP:20260420T084654
CREATED:20260319T140044Z
LAST-MODIFIED:20260211T192110Z
UID:10000153-1757579400-1757590200@staffsenate.uncg.edu
SUMMARY:UNCG Board of Trustees Meeting
DESCRIPTION:UNCG welcomes the lawful attendance of its public meetings. To help protect access and promote the transaction of public business in an efficient\, safe environment\, the following rules will apply to all events held by UNCG and its Board of Trustees. We ask that attendees conduct themselves in a manner respectful of fellow observers\, the Board\, and members of the University community including faculty\, staff\, students\, and presenters. \nMeetings of the Board of Trustees and its committees are public meetings\, rather than public hearings. Participation is limited to members of the board and designated speakers. Attendees at official meetings and committee meetings of the Board of Trustees cannot lawfully engage in conduct that distracts\, disrupts\, or impedes the transaction of Board business\, or interferes with the rights of others to observe and listen to the proceedings. \nRead more about these meetings
URL:https://staffsenate.uncg.edu/event/uncg-board-of-trustees-meeting-2/2025-09-11/
LOCATION:Betsy Oakley Family Reception Room\, Alumni House
CATEGORIES:UNCG Board of Trustees
ATTACH;FMTTYPE=image/png:https://staffsenate.uncg.edu/wp-content/uploads/2024/05/Board-of-Trustees.png
END:VEVENT
BEGIN:VEVENT
DTSTART;TZID=America/New_York:20250917T090000
DTEND;TZID=America/New_York:20250917T120000
DTSTAMP:20260420T084654
CREATED:20240529T183506Z
LAST-MODIFIED:20250828T201747Z
UID:10000163-1758099600-1758110400@staffsenate.uncg.edu
SUMMARY:UNC Board of Governors Meeting | UNC System Office
DESCRIPTION:Watch the PBS NC Livestream | \nThe UNC Board of Governors is the policy-making body charged with “the general determination\, control\, supervision\, management\, and governance” of the University of North Carolina. Its 24 voting members are elected by the NC General Assembly for four-year terms. Former board chairs may continue to serve for limited periods as non-voting members emeriti. The president of the UNC Association of Student Governments or that student’s designee is also a non-voting member. \nUNC Board of Governors’ Website \nBoard Meetings and Materials
URL:https://staffsenate.uncg.edu/event/unc-board-of-governors-meeting-pbs-nc-livestream-2/2025-09-17/
CATEGORIES:Board of Governors
ATTACH;FMTTYPE=image/jpeg:https://staffsenate.uncg.edu/wp-content/uploads/2024/05/UNC-BOG.jpg
END:VEVENT
BEGIN:VEVENT
DTSTART;TZID=America/New_York:20250917T100000
DTEND;TZID=America/New_York:20250917T110000
DTSTAMP:20260420T084654
CREATED:20250324T174321Z
LAST-MODIFIED:20250917T141922Z
UID:10000110-1758103200-1758106800@staffsenate.uncg.edu
SUMMARY:Staff Senate Full Body Meeting - September 2025
DESCRIPTION:This meeting will be an opportunity for ALL STAFF to hear updates from across campus and from Staff Senate committees. Attendance can be in-person or virtually. \n\n\n\n\nJoin Virtually\n\n\n\n\nLocation:
URL:https://staffsenate.uncg.edu/event/staff-senate-full-body-meeting-september-2025/
LOCATION:Betsy Oakley Family Reception Room\, Alumni House
CATEGORIES:Senators Meeting,Staff Senate Full Body Meeting
ATTACH;FMTTYPE=image/png:https://staffsenate.uncg.edu/wp-content/uploads/2024/05/Full-Body-Meeting.png
END:VEVENT
END:VCALENDAR