BEGIN:VCALENDAR
VERSION:2.0
PRODID:-//UNCG Staff Senate - ECPv6.15.20//NONSGML v1.0//EN
CALSCALE:GREGORIAN
METHOD:PUBLISH
X-WR-CALNAME:UNCG Staff Senate
X-ORIGINAL-URL:https://staffsenate.uncg.edu
X-WR-CALDESC:Events for UNCG Staff Senate
REFRESH-INTERVAL;VALUE=DURATION:PT1H
X-Robots-Tag:noindex
X-PUBLISHED-TTL:PT1H
BEGIN:VTIMEZONE
TZID:America/New_York
BEGIN:DAYLIGHT
TZOFFSETFROM:-0500
TZOFFSETTO:-0400
TZNAME:EDT
DTSTART:20250309T070000
END:DAYLIGHT
BEGIN:STANDARD
TZOFFSETFROM:-0400
TZOFFSETTO:-0500
TZNAME:EST
DTSTART:20251102T060000
END:STANDARD
BEGIN:DAYLIGHT
TZOFFSETFROM:-0500
TZOFFSETTO:-0400
TZNAME:EDT
DTSTART:20260308T070000
END:DAYLIGHT
BEGIN:STANDARD
TZOFFSETFROM:-0400
TZOFFSETTO:-0500
TZNAME:EST
DTSTART:20261101T060000
END:STANDARD
BEGIN:DAYLIGHT
TZOFFSETFROM:-0500
TZOFFSETTO:-0400
TZNAME:EDT
DTSTART:20270314T070000
END:DAYLIGHT
BEGIN:STANDARD
TZOFFSETFROM:-0400
TZOFFSETTO:-0500
TZNAME:EST
DTSTART:20271107T060000
END:STANDARD
END:VTIMEZONE
BEGIN:VEVENT
DTSTART;TZID=America/New_York:20260401T080000
DTEND;TZID=America/New_York:20260428T170000
DTSTAMP:20260424T143454
CREATED:20260417T181302Z
LAST-MODIFIED:20260417T181403Z
UID:10000201-1775030400-1777395600@staffsenate.uncg.edu
SUMMARY:Spartan Teacher Supply Drive
DESCRIPTION:Find out how you can donate school supply items that will be used by graduating educators at UNCG. \n\n\n\nSupplies gathered will be organize and distributed via a storefront setup. Graduating teachers will be invited to “shop” at the teaching supply store. Armed with free classroom supplies\, the new teachers will enter the new school systems with an extra boost of practical support from UNCG.
URL:https://staffsenate.uncg.edu/service/spartan-teacher-supply-drive/#new_tab
CATEGORIES:UNCG
END:VEVENT
BEGIN:VEVENT
DTSTART;TZID=America/New_York:20260409T000000
DTEND;TZID=America/New_York:20260424T235959
DTSTAMP:20260424T143454
CREATED:20260416T145404Z
LAST-MODIFIED:20260416T152343Z
UID:10000181-1775692800-1777075199@staffsenate.uncg.edu
SUMMARY:Spartan Open Pantry Spring 2026 Food Drive
DESCRIPTION:Find out how you can help donate to the Spartan Open Pantry Spring 2026 Food Drive.
URL:https://staffsenate.uncg.edu/service/spartan-open-pantry/
CATEGORIES:UNCG
END:VEVENT
BEGIN:VEVENT
DTSTART;TZID=America/New_York:20260415T090000
DTEND;TZID=America/New_York:20260415T120000
DTSTAMP:20260424T143454
CREATED:20240529T183506Z
LAST-MODIFIED:20250828T201747Z
UID:10000169-1776243600-1776254400@staffsenate.uncg.edu
SUMMARY:UNC Board of Governors Meeting | UNC System Office
DESCRIPTION:Watch the PBS NC Livestream | \nThe UNC Board of Governors is the policy-making body charged with “the general determination\, control\, supervision\, management\, and governance” of the University of North Carolina. Its 24 voting members are elected by the NC General Assembly for four-year terms. Former board chairs may continue to serve for limited periods as non-voting members emeriti. The president of the UNC Association of Student Governments or that student’s designee is also a non-voting member. \nUNC Board of Governors’ Website \nBoard Meetings and Materials
URL:https://staffsenate.uncg.edu/event/unc-board-of-governors-meeting-pbs-nc-livestream-2/2026-04-15/
CATEGORIES:Board of Governors
ATTACH;FMTTYPE=image/jpeg:https://staffsenate.uncg.edu/wp-content/uploads/2024/05/UNC-BOG.jpg
END:VEVENT
END:VCALENDAR