BEGIN:VCALENDAR
VERSION:2.0
PRODID:-//UNCG Staff Senate - ECPv6.15.20//NONSGML v1.0//EN
CALSCALE:GREGORIAN
METHOD:PUBLISH
X-ORIGINAL-URL:https://staffsenate.uncg.edu
X-WR-CALDESC:Events for UNCG Staff Senate
REFRESH-INTERVAL;VALUE=DURATION:PT1H
X-Robots-Tag:noindex
X-PUBLISHED-TTL:PT1H
BEGIN:VTIMEZONE
TZID:America/New_York
BEGIN:DAYLIGHT
TZOFFSETFROM:-0500
TZOFFSETTO:-0400
TZNAME:EDT
DTSTART:20240310T070000
END:DAYLIGHT
BEGIN:STANDARD
TZOFFSETFROM:-0400
TZOFFSETTO:-0500
TZNAME:EST
DTSTART:20241103T060000
END:STANDARD
BEGIN:DAYLIGHT
TZOFFSETFROM:-0500
TZOFFSETTO:-0400
TZNAME:EDT
DTSTART:20250309T070000
END:DAYLIGHT
BEGIN:STANDARD
TZOFFSETFROM:-0400
TZOFFSETTO:-0500
TZNAME:EST
DTSTART:20251102T060000
END:STANDARD
BEGIN:DAYLIGHT
TZOFFSETFROM:-0500
TZOFFSETTO:-0400
TZNAME:EDT
DTSTART:20260308T070000
END:DAYLIGHT
BEGIN:STANDARD
TZOFFSETFROM:-0400
TZOFFSETTO:-0500
TZNAME:EST
DTSTART:20261101T060000
END:STANDARD
END:VTIMEZONE
BEGIN:VEVENT
DTSTART;TZID=America/New_York:20250911T083000
DTEND;TZID=America/New_York:20250911T113000
DTSTAMP:20260422T113446
CREATED:20260211T143120Z
LAST-MODIFIED:20260211T144738Z
UID:10000171-1757579400-1757590200@staffsenate.uncg.edu
SUMMARY:UNCG Board of Trustees Meeting
DESCRIPTION:UNCG welcomes the lawful attendance of its public meetings. To help protect access and promote the transaction of public business in an efficient\, safe environment\, the following rules will apply to all events held by UNCG and its Board of Trustees. We ask that attendees conduct themselves in a manner respectful of fellow observers\, the Board\, and members of the University community including faculty\, staff\, students\, and presenters. \nMeetings of the Board of Trustees and its committees are public meetings\, rather than public hearings. Participation is limited to members of the board and designated speakers. Attendees at official meetings and committee meetings of the Board of Trustees cannot lawfully engage in conduct that distracts\, disrupts\, or impedes the transaction of Board business\, or interferes with the rights of others to observe and listen to the proceedings. \nRead more about these meetings
URL:https://staffsenate.uncg.edu/event/uncg-board-of-trustees-meeting-3/
LOCATION:Betsy Oakley Family Reception Room\, Alumni House
CATEGORIES:UNCG Board of Trustees
ATTACH;FMTTYPE=image/png:https://staffsenate.uncg.edu/wp-content/uploads/2024/05/Board-of-Trustees.png
END:VEVENT
BEGIN:VEVENT
DTSTART;TZID=America/New_York:20250911T083000
DTEND;TZID=America/New_York:20250911T113000
DTSTAMP:20260422T113446
CREATED:20260319T140044Z
LAST-MODIFIED:20260211T192110Z
UID:10000153-1757579400-1757590200@staffsenate.uncg.edu
SUMMARY:UNCG Board of Trustees Meeting
DESCRIPTION:UNCG welcomes the lawful attendance of its public meetings. To help protect access and promote the transaction of public business in an efficient\, safe environment\, the following rules will apply to all events held by UNCG and its Board of Trustees. We ask that attendees conduct themselves in a manner respectful of fellow observers\, the Board\, and members of the University community including faculty\, staff\, students\, and presenters. \nMeetings of the Board of Trustees and its committees are public meetings\, rather than public hearings. Participation is limited to members of the board and designated speakers. Attendees at official meetings and committee meetings of the Board of Trustees cannot lawfully engage in conduct that distracts\, disrupts\, or impedes the transaction of Board business\, or interferes with the rights of others to observe and listen to the proceedings. \nRead more about these meetings
URL:https://staffsenate.uncg.edu/event/uncg-board-of-trustees-meeting-2/2025-09-11/
LOCATION:Betsy Oakley Family Reception Room\, Alumni House
CATEGORIES:UNCG Board of Trustees
ATTACH;FMTTYPE=image/png:https://staffsenate.uncg.edu/wp-content/uploads/2024/05/Board-of-Trustees.png
END:VEVENT
END:VCALENDAR